BEGIN:VCALENDAR
VERSION:2.0
PRODID:LFV Website-Kit
METHOD:PUBLISH
BEGIN:VEVENT
UID:lfv-b9f9bc91-30ed-4973-8191-60522d1d1833
LOCATION:Mühlstr. 1 Zöschingen
SUMMARY:Jahresabschlußsfeier FW Zöschingen
DESCRIPTION:Termin Link: https://www.kfv-dillingen.de/termine/jahresabschlusfeier-fw-zoschingne/
URL:https://www.kfv-dillingen.de/termine/jahresabschlusfeier-fw-zoschingne/
CLASS:PRIVATE
DTSTART;TZID=Europe/Berlin:20241025T183000
DTEND;TZID=Europe/Berlin:20241025T220000
DTSTAMP:20260420T021617Z
END:VEVENT
END:VCALENDAR