BEGIN:VCALENDAR
VERSION:2.0
PRODID:LFV Website-Kit
METHOD:PUBLISH
BEGIN:VEVENT
UID:lfv-c438d7e8-8e24-4de9-8f5a-0e143700ff41
LOCATION:Zoltingen
SUMMARY:GV Zoltingen
DESCRIPTION:Termin Link: https://www.kfv-dillingen.de/termine/gv-zoltingen/
URL:https://www.kfv-dillingen.de/termine/gv-zoltingen/
CLASS:PRIVATE
DTSTART;TZID=Europe/Berlin:20260314T193000
DTEND;TZID=Europe/Berlin:20260314T213000
DTSTAMP:20260421T083329Z
END:VEVENT
END:VCALENDAR