BEGIN:VCALENDAR
VERSION:2.0
PRODID:LFV Website-Kit
METHOD:PUBLISH
BEGIN:VEVENT
UID:lfv-8dad6efb-b766-4286-8b98-df1764d203e2
LOCATION:86657 Göllingen
SUMMARY:GV Göllingen
DESCRIPTION:Termin Link: https://www.kfv-dillingen.de/termine/gv-gollingen/
URL:https://www.kfv-dillingen.de/termine/gv-gollingen/
CLASS:PRIVATE
DTSTART;TZID=Europe/Berlin:20260314T193000
DTEND;TZID=Europe/Berlin:20260314T213000
DTSTAMP:20260421T084718Z
END:VEVENT
END:VCALENDAR