BEGIN:VCALENDAR
VERSION:2.0
PRODID:LFV Website-Kit
METHOD:PUBLISH
BEGIN:VEVENT
UID:lfv-3a0d929b-8077-483b-9631-41bd0f8caa51
LOCATION:Unterliezheim (Gemeinde Lutzingen)
SUMMARY:150 Jähriges Gründungsfest FF Unterliezheim
DESCRIPTION:Termin Link: https://www.kfv-dillingen.de/termine/150-jahriges-grundungsfest-ff-unterliezheim/
URL:https://www.kfv-dillingen.de/termine/150-jahriges-grundungsfest-ff-unterliezheim/
CLASS:PRIVATE
DTSTART;TZID=Europe/Berlin:20270626T000000
DTEND;TZID=Europe/Berlin:20270627T235900
DTSTAMP:20260421T082143Z
END:VEVENT
END:VCALENDAR