BEGIN:VCALENDAR
VERSION:2.0
PRODID:LFV Website-Kit
METHOD:PUBLISH
BEGIN:VEVENT
UID:lfv-f2396100-260a-4b84-a36b-b6b166ec5022
LOCATION:
SUMMARY:150 Jähriges Gründungsfest FF Binswangen
DESCRIPTION:mit Fahrzeugweihe LF 10\n\nTermin Link: https://www.kfv-dillingen.de/termine/150-jahriges-grundungsfest-ff-binswangen/
URL:https://www.kfv-dillingen.de/termine/150-jahriges-grundungsfest-ff-binswangen/
CLASS:PRIVATE
DTSTART;TZID=Europe/Berlin:20250517T000000
DTEND;TZID=Europe/Berlin:20250518T000000
DTSTAMP:20260425T130646Z
END:VEVENT
END:VCALENDAR